BEGIN:VCALENDAR
VERSION:2.0
PRODID:-//Masuria Lakehouse - ECPv6.15.14//NONSGML v1.0//EN
CALSCALE:GREGORIAN
METHOD:PUBLISH
X-WR-CALNAME:Masuria Lakehouse
X-ORIGINAL-URL:https://masurialakehouse.pl/en
X-WR-CALDESC:Events for Masuria Lakehouse
REFRESH-INTERVAL;VALUE=DURATION:PT1H
X-Robots-Tag:noindex
X-PUBLISHED-TTL:PT1H
BEGIN:VTIMEZONE
TZID:Europe/Warsaw
BEGIN:DAYLIGHT
TZOFFSETFROM:+0100
TZOFFSETTO:+0200
TZNAME:CEST
DTSTART:20250330T010000
END:DAYLIGHT
BEGIN:STANDARD
TZOFFSETFROM:+0200
TZOFFSETTO:+0100
TZNAME:CET
DTSTART:20251026T010000
END:STANDARD
BEGIN:DAYLIGHT
TZOFFSETFROM:+0100
TZOFFSETTO:+0200
TZNAME:CEST
DTSTART:20260329T010000
END:DAYLIGHT
BEGIN:STANDARD
TZOFFSETFROM:+0200
TZOFFSETTO:+0100
TZNAME:CET
DTSTART:20261025T010000
END:STANDARD
BEGIN:DAYLIGHT
TZOFFSETFROM:+0100
TZOFFSETTO:+0200
TZNAME:CEST
DTSTART:20270328T010000
END:DAYLIGHT
BEGIN:STANDARD
TZOFFSETFROM:+0200
TZOFFSETTO:+0100
TZNAME:CET
DTSTART:20271031T010000
END:STANDARD
BEGIN:DAYLIGHT
TZOFFSETFROM:+0100
TZOFFSETTO:+0200
TZNAME:CEST
DTSTART:20280326T010000
END:DAYLIGHT
BEGIN:STANDARD
TZOFFSETFROM:+0200
TZOFFSETTO:+0100
TZNAME:CET
DTSTART:20281029T010000
END:STANDARD
END:VTIMEZONE
BEGIN:VEVENT
DTSTART;VALUE=DATE:20260105
DTEND;VALUE=DATE:20270101
DTSTAMP:20260425T184429
CREATED:20260105T134302Z
LAST-MODIFIED:20260105T134604Z
UID:3545-1767571200-1798761599@masurialakehouse.pl
SUMMARY:Warsztaty Ceramiki – Tworzenie w Naturze
DESCRIPTION:Zapraszamy na wyjątkowe warsztaty ceramiczne\, które łączą twórczość\, uważność i relaks. To zajęcia\, podczas których uczestnicy pracują rękami z gliną\, tworząc własne naczynia – miski\, talerze\, kubki lub ozdoby. \nWarsztat prowadzi doświadczona instruktorka\, a spotkania odbywają się w atmosferze spokoju\, skupienia i swobodnej kreatywności. \nWarsztaty są odpowiednie zarówno dla osób dorosłych\, jak i dla młodszych twórców. Nie wymagają wcześniejszego doświadczenia. Każdy uczestnik tworzy swoją unikatową pracę\, którą otrzyma wysłaną pocztą po procesie wypalenia \nJak wyglądają zajęcia? \nKażdy warsztat trwa ok 1\,5 godziny i obejmuje: \n✨ krótkie wprowadzenie do pracy z gliną \n✨ omówienie techniki lepienia (w zależności od wybranego wariantu) \n✨ czas twórczy – indywidualna praca uczestników \n✨ pomoc instruktora na każdym etapie \n✨ tworzenie jednej gotowej pracy ceramicznej \nUczestnicy mają do wyboru jeden z dwóch rodzajów warsztatów: \nWariant 1: Warsztaty w Masurii \n1. Lepienie z płata \nTworzenie miski lub talerza na gotowych formach. \n2. Lepienie z kuli \nCzarki\, kubki\, filiżanki lub małe misy. \nPrzykładowe ceny przeliczone na osobę: \n• 3 osoby – 126\,67 zł / os. \n• 5 osób – 100\,00 zł / os. \n• 7 osób – 88\,57 zł / os. \n• 10 osób – 80\,00 zł / os. \n• 12 osób – 76\,67 zł / os. \nWariant 2: Warsztaty w pracowni w Ełku.  \nGrupy 5+ \n• Lepienie z płata – 60 zł / osoba \n• Lepienie z kuli – 60 zł / osoba \nCzas trwania: 1\,5 godziny \nMałe warsztaty w pracowni (1–4 osoby): \n• 1 osoba – 240 zł \n• 2 osoby – 250 zł \n• 3 osoby – 260 zł \n• 4 osoby – 270 zł \nCzas trwania: 1\,5 godziny \nDostosowanie do Waszych potrzeb \nChętnie dopasujemy warsztat do charakteru wydarzenia\, grupy czy programu pobytu. \nJeżeli potrzebujesz innej formy zajęć\, dłuższego czasu lub dodatkowych aktywności — odezwij się\, a wspólnie znajdziemy idealne rozwiązanie.
URL:https://masurialakehouse.pl/en/event/warsztaty-ceramiki-tworzenie-w-naturze/
LOCATION:Masuria Lakehouse\, Łaśmiady 6\, Stare Juchy\, Warmińsko-Mazurskie\, 19-330\, Poland
CATEGORIES:Warsztaty
ATTACH;FMTTYPE=image/png:https://masurialakehouse.pl/wp-content/uploads/2026/01/warsztaty-ceramiki.png
END:VEVENT
BEGIN:VEVENT
DTSTART;VALUE=DATE:20260105
DTEND;VALUE=DATE:20270102
DTSTAMP:20260425T184429
CREATED:20260105T095912Z
LAST-MODIFIED:20260105T095912Z
UID:3532-1767574800-1798765199@masurialakehouse.pl
SUMMARY:WARSZTATY MAKIJAŻU NA UŻYTEK WŁASNY
DESCRIPTION:Pakiet BASIC\nCzas trwania: 2hKoszt: 80 zł / osoba \nW ramach pakietu do wyboru jeden z dwóch wariantów:\n✨ 1. POKAZ MAKIJAŻU NA MODELCE\nUczestniczki siedzą wygodnie z kawą lub winem i obserwują tworzenie makijażu krok po kroku.Do wyboru style: \n\n\nwieczorowy \n\n\ndelikatny\, ślubny glow \n\n\nmakijaż dla cery dojrzałej – naturalnie odmładzający \n\n\nmakijaż dla cery trądzikowej – wygładzający i świeży \n\n\nForma pokazowa pełna trików\, wskazówek i podpowiedzi. \n\n✨ 2. MINI-WARSZTATY PRAKTYCZNE\nDla kobiet\, które chcą zdobyć praktyczne umiejętności w ciepłej atmosferze. \nTematy do wyboru: \n\n\nKlasyczny makijaż upiększający na dzień – malowanie siebie \n\n\nPrzegląd kosmetyczki – co zostawić\, co wymienić\, jak budować bazę kosmetyczną \n\n\nPielęgnacja pod makijaż – dobór pielęgnacji pod daną cerę \n\n\nPrzyjazna forma\, bez ocen — praktyczna wiedza do wykorzystania od razu. \n\nPakiet STANDARD\nCzas trwania: 4hKoszt: 150 zł / osoba \nDo wyboru jeden z trzech uniwersalnych tematów: \n✨ 1. Makijaż dzienny + przejście do wersji wieczorowej\nUczestniczki uczą się świeżego makijażu dziennego i przekształcenia go w elegancki wieczorowy.Idealny dla kobiet chcących poznać szybkie triki „przed wyjściem”. \n\n✨ 2. Makijaż dla cery dojrzałej – triki odmładzające\nPopularny temat z natychmiastowym efektem.Omówienie pielęgnacji i technik: \n\n\nwygładzanie \n\n\nlekki podkład \n\n\nmodelowanie twarzy \n\n\nsposoby na „otwarcie oka” \n\n\nŚwietny wybór dla kobiet 40+ i 50+. \n\n✨ 3. Pielęgnacja + makijaż rozświetlający\nDla osób chcących poznać podstawy pielęgnacji i świeżego makijażu krok po kroku. \n\nPakiet PREMIUM\nCzas trwania: 6–7hKoszt: 230 zł / osoba \nNajbogatsza forma warsztatów. Do wyboru: \n✨ 1. Makijaż ślubny – elegancki\, świeży i trwały\nHIT!Omówienie: \n\n\nprzygotowanie cery \n\n\nrozświetlona cera \n\n\ndelikatne oko \n\n\nmakijaż idealny na żywo i na zdjęciach \n\n\nDla panien młodych\, mam\, świadkowych i kobiet chcących wyglądać wyjątkowo. \n\n✨ 2. Beauty Day – pielęgnacja + makijaż wieczorowy + indywidualne konsultacje\nW programie: \n\n\nwarsztat pielęgnacyjny \n\n\nprzydymione oko (makijaż wieczorowy) \n\n\nmini konsultacje (analiza kolorystyczna\, dobór produktów\, pytania i odpowiedzi) \n\n\n\n✨ 3. Makijaż cery problematycznej\nWarsztat dla kobiet z cerą wymagającą.Zakres: \n\n\npielęgnacja i przygotowanie skóry \n\n\nkorekcja kolorem \n\n\ntechniki krycia \n\n\ntrwały\, naturalny makijaż mimo niedoskonałości \n\n\n\n⭐ Co zapewniam w każdym pakiecie?\n(pełne wyposażenie + komfort pracy) \nKosmetyki i pielęgnacja\n\n\nProfesjonalne kosmetyki do makijażu \n\n\nProdukty dopasowane do różnych typów cery \n\n\nPędzle i narzędzia\n\n\nKomplety pędzli i gąbeczek na miejscu \n\n\nPaletki\, zalotki\, aplikatory jednorazowe \n\n\nWaciki\, chusteczki\, płyny micelarne\, środki do dezynfekcji \n\n\nLusterka \n\n\nOpieka prowadzącej\n\n\nIndywidualne wskazówki przez cały czas \n\n\nPomoc przy doborze odcieni i produktów \n\n\nPrzyjazna\, kobieca atmosfera — zero presji\, maksimum wsparcia \n\n\n\n🎁 Bonusy dla każdej uczestniczki\n\n\nImienny certyfikat ukończenia warsztatów \n\n\nMini-karta pielęgnacyjna (rano/wieczór) \n\n\nLista polecanych produktów (na różne budżety) \n\n\nZdjęcie przed/po — jeśli uczestniczka chce \n\n\nPDF: „Moje 10 trików makijażowych”
URL:https://masurialakehouse.pl/en/event/warsztaty-makijazu-na-uzytek-wlasny/
LOCATION:Masuria Lakehouse\, Łaśmiady 6\, Stare Juchy\, Warmińsko-Mazurskie\, 19-330\, Poland
CATEGORIES:Warsztaty
ATTACH;FMTTYPE=image/png:https://masurialakehouse.pl/wp-content/uploads/2025/12/warsztaty-makijazu.png
END:VEVENT
BEGIN:VEVENT
DTSTART;TZID=Europe/Warsaw:20260522T170000
DTEND;TZID=Europe/Warsaw:20260524T140000
DTSTAMP:20260425T184429
CREATED:20250717T123656Z
LAST-MODIFIED:20251102T081720Z
UID:3378-1779469200-1779631200@masurialakehouse.pl
SUMMARY:Wiosenna Ahimsa Joga
DESCRIPTION:Zapraszam Was na weekendowy camp jesienny do magicznego miejsca jakim jest @masurialakehouse \nPo wysokiej energii lata\, czasie dużej aktywności\, ekspansji\, pełni i rozkwitu wszyscy będziemy potrzebować wyciszenia\, uspokojenia i zrównoważenia energii💕🤌🙏\nA miejsce i czas będzie ku temu idealny… \nZanurzymy się w medytację\, świadomy oddech\, jogę\, pilates\, będziemy śnić na jawie w joga nidrze\, rozpływać się w kojących dźwiękach sound healing by @piesnia_podszyte \, tańczyć\, spacerować na łonie natury\, spożywać przepyszne\, zdrowe posiłki\, przygotowywane z miłością\, rozmawiać w kręgu… słowem będzie to czas wracania do siebie oraz harmonizowania ciała i ducha.\n  \nNowością tej edycji będzie nowa\, przestronna\, przytulna sala warsztatowa 👌👌👌😁🙏 \nMiejsce : Masuria Lakehouse (Łaśmiady koło Gizycka)\nZakwaterowanie: pensjonat z wygodnymi\, przytulnymi pokojami\, pokoje 2 -os\nWyżywienie: śniadanie i obiadokolacja plus bufet przekąskowy z zupą w ciągu dnia;\nBufet kawowy cały dzień\nAktywności: joga\, pilates\, medytacje\, pranayama\, yoga nieraz\, ecstatic dance lub Kirtan w zależności od wyboru\,\nwieczór z dźwiękiem\, sauna dla chętnych\, możemy również zrobić ognisko\,\nPraktyki możemy robić na plaży w zależności od pogody\,\nDostępność masaży po wcześniejszej rezerwacji \nIlość miejsc ograniczona ; będzie bardzo kameralnie\nBędzie to magiczny\, pełen pięknej energii\, lekkości i zabawy weekend \nNie może Cię zabraknąć💕💕 \nZapraszam do rezerwacji : tel. 602 420 249\nLub mailowo: ahimsa_yoga@outlook.com \nStwórzmy razem piękną i bezpieczną przestrzeń do rozwoju\, relaksu\, zabawy \nNamaste 🙏❤️
URL:https://masurialakehouse.pl/en/event/autumn-ahimsa-vibes/
LOCATION:Masuria Lakehouse\, Łaśmiady 6\, Stare Juchy\, Warmińsko-Mazurskie\, 19-330\, Poland
CATEGORIES:Joga
ATTACH;FMTTYPE=image/jpeg:https://masurialakehouse.pl/wp-content/uploads/2025/07/Wiosenna-Ahimsa-Joga.jpeg
ORGANIZER;CN="Ahimsa YOGA by Iwona":MAILTO:ahimsa_yoga@outlook.com
END:VEVENT
END:VCALENDAR