BEGIN:VCALENDAR
VERSION:2.0
PRODID:-//Masuria Lakehouse - ECPv6.15.14//NONSGML v1.0//EN
CALSCALE:GREGORIAN
METHOD:PUBLISH
X-ORIGINAL-URL:https://masurialakehouse.pl
X-WR-CALDESC:Wydarzenia dla Masuria Lakehouse
REFRESH-INTERVAL;VALUE=DURATION:PT1H
X-Robots-Tag:noindex
X-PUBLISHED-TTL:PT1H
BEGIN:VTIMEZONE
TZID:Europe/Warsaw
BEGIN:DAYLIGHT
TZOFFSETFROM:+0100
TZOFFSETTO:+0200
TZNAME:CEST
DTSTART:20250330T010000
END:DAYLIGHT
BEGIN:STANDARD
TZOFFSETFROM:+0200
TZOFFSETTO:+0100
TZNAME:CET
DTSTART:20251026T010000
END:STANDARD
BEGIN:DAYLIGHT
TZOFFSETFROM:+0100
TZOFFSETTO:+0200
TZNAME:CEST
DTSTART:20260329T010000
END:DAYLIGHT
BEGIN:STANDARD
TZOFFSETFROM:+0200
TZOFFSETTO:+0100
TZNAME:CET
DTSTART:20261025T010000
END:STANDARD
BEGIN:DAYLIGHT
TZOFFSETFROM:+0100
TZOFFSETTO:+0200
TZNAME:CEST
DTSTART:20270328T010000
END:DAYLIGHT
BEGIN:STANDARD
TZOFFSETFROM:+0200
TZOFFSETTO:+0100
TZNAME:CET
DTSTART:20271031T010000
END:STANDARD
END:VTIMEZONE
BEGIN:VEVENT
DTSTART;VALUE=DATE:20260105
DTEND;VALUE=DATE:20260401
DTSTAMP:20260425T234653
CREATED:20260105T091922Z
LAST-MODIFIED:20260105T100130Z
UID:3535-1767571200-1775001599@masurialakehouse.pl
SUMMARY:SAUNOWY RESET
DESCRIPTION:W Masuria Lakehouse czeka na Ciebie saunowanie w sercu natury… i morsowanie w jeziorze Ułówki ❄️ \n4-godzinny relaks: Sauna + Morsowanie + Ognisko \nZapraszamy na wyjątkowe 4 godziny pełnego relaksu nad jeziorem w Masuria Lakehouse! Idealny pakiet dla 4–6 osób\, które chcą odpocząć\, naładować energię i poczuć moc natury. \nCo w pakiecie:\n🔥 Seans saunowy – oczyszczenie ciała i odprężenie umysłu.\n❄️ Morsowanie w jeziorze – wzmacniające odporność i dodające energii.\n🍢 Ognisko z kiełbaskami – zakończ dzień w ciepłej\, przyjaznej atmosferze\, delektując się jedzeniem na świeżym powietrzu. \nDla kogo:\n• Przyjaciół i rodziny (4–6 osób)\n• Par i małych grup\, które chcą połączyć wellness z aktywnym relaksem\n• Każdego\, kto chce przeżyć wyjątkowe chwile w otoczeniu mazurskiej przyrody i kocha żywioły \nCzas trwania: 4 godziny\nCena: 550–750 zł za grupę (w zależności od terminu i liczby osób) \n🛌 Opcja z noclegiem:\nPo zakończeniu sesji saunowania i morsowania możesz zostać w naszym pensjonacie.\nCena dodatkowa to 350 zł za dobę za pokój 2 os.\, w tym śniadanie. \nRezerwacja:\n📞 733 320 360\n✉️ info@masurialakehouse.pl \nZobacz film
URL:https://masurialakehouse.pl/event/saunowy-reset/
LOCATION:Masuria Lakehouse\, Łaśmiady 6\, Stare Juchy\, Warmińsko-Mazurskie\, 19-330\, Poland
CATEGORIES:Sauna
ATTACH;FMTTYPE=image/png:https://masurialakehouse.pl/wp-content/uploads/2026/01/saunowy-reset.png
END:VEVENT
END:VCALENDAR